BEGIN:VCALENDAR
VERSION:2.0
PRODID:-//Melwood Community Services - ECPv6.15.20//NONSGML v1.0//EN
CALSCALE:GREGORIAN
METHOD:PUBLISH
X-WR-CALNAME:Melwood Community Services
X-ORIGINAL-URL:https://melwoodcommunity.org
X-WR-CALDESC:Events for Melwood Community Services
REFRESH-INTERVAL;VALUE=DURATION:PT1H
X-Robots-Tag:noindex
X-PUBLISHED-TTL:PT1H
BEGIN:VTIMEZONE
TZID:America/New_York
BEGIN:DAYLIGHT
TZOFFSETFROM:-0500
TZOFFSETTO:-0400
TZNAME:EDT
DTSTART:20230312T070000
END:DAYLIGHT
BEGIN:STANDARD
TZOFFSETFROM:-0400
TZOFFSETTO:-0500
TZNAME:EST
DTSTART:20231105T060000
END:STANDARD
BEGIN:DAYLIGHT
TZOFFSETFROM:-0500
TZOFFSETTO:-0400
TZNAME:EDT
DTSTART:20240310T070000
END:DAYLIGHT
BEGIN:STANDARD
TZOFFSETFROM:-0400
TZOFFSETTO:-0500
TZNAME:EST
DTSTART:20241103T060000
END:STANDARD
BEGIN:DAYLIGHT
TZOFFSETFROM:-0500
TZOFFSETTO:-0400
TZNAME:EDT
DTSTART:20250309T070000
END:DAYLIGHT
BEGIN:STANDARD
TZOFFSETFROM:-0400
TZOFFSETTO:-0500
TZNAME:EST
DTSTART:20251102T060000
END:STANDARD
END:VTIMEZONE
BEGIN:VTIMEZONE
TZID:America/Halifax
BEGIN:DAYLIGHT
TZOFFSETFROM:-0400
TZOFFSETTO:-0300
TZNAME:ADT
DTSTART:20230312T060000
END:DAYLIGHT
BEGIN:STANDARD
TZOFFSETFROM:-0300
TZOFFSETTO:-0400
TZNAME:AST
DTSTART:20231105T050000
END:STANDARD
BEGIN:DAYLIGHT
TZOFFSETFROM:-0400
TZOFFSETTO:-0300
TZNAME:ADT
DTSTART:20240310T060000
END:DAYLIGHT
BEGIN:STANDARD
TZOFFSETFROM:-0300
TZOFFSETTO:-0400
TZNAME:AST
DTSTART:20241103T050000
END:STANDARD
BEGIN:DAYLIGHT
TZOFFSETFROM:-0400
TZOFFSETTO:-0300
TZNAME:ADT
DTSTART:20250309T060000
END:DAYLIGHT
BEGIN:STANDARD
TZOFFSETFROM:-0300
TZOFFSETTO:-0400
TZNAME:AST
DTSTART:20251102T050000
END:STANDARD
END:VTIMEZONE
BEGIN:VEVENT
DTSTART;VALUE=DATE:20241001
DTEND;VALUE=DATE:20241002
DTSTAMP:20260424T070647
CREATED:20251017T150732Z
LAST-MODIFIED:20251017T151210Z
UID:7740-1727740800-1727827199@melwoodcommunity.org
SUMMARY:Test event 1
DESCRIPTION:Test event 1
URL:https://melwoodcommunity.org/calendar/test-event-1/
LOCATION:The WISH Center\, 7950 Audobon Avenue\, Alexandria\, VA\, 22306\, United States
CATEGORIES:Category 1
ORGANIZER;CN="Fairfax Wish":MAILTO:FairfaxWish@melwood.org
END:VEVENT
BEGIN:VEVENT
DTSTART;TZID=America/New_York:20241001T080000
DTEND;TZID=America/New_York:20241001T110000
DTSTAMP:20260424T070647
CREATED:20251017T150858Z
LAST-MODIFIED:20251017T150858Z
UID:7741-1727769600-1727780400@melwoodcommunity.org
SUMMARY:Test event 2
DESCRIPTION:Test event 2
URL:https://melwoodcommunity.org/calendar/test-event-2/
LOCATION:The WISH Center\, 7950 Audobon Avenue\, Alexandria\, VA\, 22306\, United States
ORGANIZER;CN="Fairfax Wish":MAILTO:FairfaxWish@melwood.org
END:VEVENT
BEGIN:VEVENT
DTSTART;TZID=America/Halifax:20241023T173000
DTEND;TZID=America/Halifax:20241023T193000
DTSTAMP:20260424T070647
CREATED:20241022T131302Z
LAST-MODIFIED:20241022T131302Z
UID:7236-1729704600-1729711800@melwoodcommunity.org
SUMMARY:Adult Welding (Soldadura Para Adultis)
DESCRIPTION:Ven a celebrar las festividades con nosotros en el Centro WISH \nEsta es una clase de 2 horas\, instruida por nuestros experimentados instructores. Seras introducido a los principios de soldadura y al final de la clase habras creado una 1naceta para ti o para dar co1no un regalo en estas festividades. Registrarte solo/a o con amigos. Ven a aprender y celbrar! \nHybla Valley Community Center\n7950 Audubon Ave.\nAlexandria\, VA \nTel: (571) 347-7858
URL:https://melwoodcommunity.org/calendar/adult-welding-soldadura-para-adultis/
LOCATION:VA
END:VEVENT
BEGIN:VEVENT
DTSTART;TZID=America/Halifax:20241028T173000
DTEND;TZID=America/Halifax:20241028T193000
DTSTAMP:20260424T070647
CREATED:20241022T135128Z
LAST-MODIFIED:20241022T135128Z
UID:7243-1730136600-1730143800@melwoodcommunity.org
SUMMARY:Adult Carpentry Introduction (CARPINTERÍA PARA ADULTOS INTRODUCCIÓN)
DESCRIPTION:CARPINTERÍA PARA ADULTOS EXPANSIÓN – Lunes / 7 sesiones\n21 de Octubre – 9 de Diciembre
URL:https://melwoodcommunity.org/calendar/adult-carpentry-introduction-carpinteria-para-adultos-introduccion/
LOCATION:VA
END:VEVENT
BEGIN:VEVENT
DTSTART;TZID=America/Halifax:20241030T173000
DTEND;TZID=America/Halifax:20241030T193000
DTSTAMP:20260424T070647
CREATED:20241022T133057Z
LAST-MODIFIED:20241022T133057Z
UID:7237-1730309400-1730316600@melwoodcommunity.org
SUMMARY:Adult Welding (Soldadura Para Adultis)
DESCRIPTION:Ven a celebrar las festividades con nosotros en el Centro WISH \nEsta es una clase de 2 horas\, instruida por nuestros experimentados instructores. Seras introducido a los principios de soldadura y al final de la clase habras creado una 1naceta para ti o para dar co1no un regalo en estas festividades. Registrarte solo/a o con amigos. Ven a aprender y celbrar! \nHybla Valley Community Center\n7950 Audubon Ave.\nAlexandria\, VA \nTel: (571) 347-7858
URL:https://melwoodcommunity.org/calendar/adult-welding-soldadura-para-adultis-2/
LOCATION:VA
END:VEVENT
END:VCALENDAR