BEGIN:VCALENDAR
VERSION:2.0
PRODID:-//Melwood Community Services - ECPv6.15.20//NONSGML v1.0//EN
CALSCALE:GREGORIAN
METHOD:PUBLISH
X-WR-CALNAME:Melwood Community Services
X-ORIGINAL-URL:https://melwoodcommunity.org
X-WR-CALDESC:Events for Melwood Community Services
REFRESH-INTERVAL;VALUE=DURATION:PT1H
X-Robots-Tag:noindex
X-PUBLISHED-TTL:PT1H
BEGIN:VTIMEZONE
TZID:America/Halifax
BEGIN:DAYLIGHT
TZOFFSETFROM:-0400
TZOFFSETTO:-0300
TZNAME:ADT
DTSTART:20220313T060000
END:DAYLIGHT
BEGIN:STANDARD
TZOFFSETFROM:-0300
TZOFFSETTO:-0400
TZNAME:AST
DTSTART:20221106T050000
END:STANDARD
BEGIN:DAYLIGHT
TZOFFSETFROM:-0400
TZOFFSETTO:-0300
TZNAME:ADT
DTSTART:20230312T060000
END:DAYLIGHT
BEGIN:STANDARD
TZOFFSETFROM:-0300
TZOFFSETTO:-0400
TZNAME:AST
DTSTART:20231105T050000
END:STANDARD
BEGIN:DAYLIGHT
TZOFFSETFROM:-0400
TZOFFSETTO:-0300
TZNAME:ADT
DTSTART:20240310T060000
END:DAYLIGHT
BEGIN:STANDARD
TZOFFSETFROM:-0300
TZOFFSETTO:-0400
TZNAME:AST
DTSTART:20241103T050000
END:STANDARD
END:VTIMEZONE
BEGIN:VEVENT
DTSTART;TZID=America/Halifax:20230502T120000
DTEND;TZID=America/Halifax:20230502T140000
DTSTAMP:20260424T085727
CREATED:20230418T150405Z
LAST-MODIFIED:20230418T150405Z
UID:5473-1683028800-1683036000@melwoodcommunity.org
SUMMARY:Computer Basics
DESCRIPTION:To sign up for Training classes call 571-347-7858
URL:https://melwoodcommunity.org/calendar/computer-basics-5/
END:VEVENT
BEGIN:VEVENT
DTSTART;TZID=America/Halifax:20230502T120000
DTEND;TZID=America/Halifax:20230502T130000
DTSTAMP:20260424T085727
CREATED:20230418T150308Z
LAST-MODIFIED:20230418T150308Z
UID:5472-1683028800-1683032400@melwoodcommunity.org
SUMMARY:Intro to Welding
DESCRIPTION:To sign up for Training classes call 571-347-7858
URL:https://melwoodcommunity.org/calendar/intro-to-welding-7/
END:VEVENT
BEGIN:VEVENT
DTSTART;TZID=America/Halifax:20230502T083000
DTEND;TZID=America/Halifax:20230502T113000
DTSTAMP:20260424T085727
CREATED:20230414T201252Z
LAST-MODIFIED:20230414T201252Z
UID:5445-1683016200-1683027000@melwoodcommunity.org
SUMMARY:Carpentry Explored
DESCRIPTION:To sign up for Training classes call 571-347-7858
URL:https://melwoodcommunity.org/calendar/carpentry-skills-class-3/
END:VEVENT
BEGIN:VEVENT
DTSTART;TZID=America/Halifax:20230501T120000
DTEND;TZID=America/Halifax:20230501T140000
DTSTAMP:20260424T085727
CREATED:20230418T145945Z
LAST-MODIFIED:20230418T145945Z
UID:5470-1682942400-1682949600@melwoodcommunity.org
SUMMARY:3D Printing (all levels)
DESCRIPTION:To sign up for Training classes call 571-347-7858
URL:https://melwoodcommunity.org/calendar/3d-printing-all-levels-3/
END:VEVENT
BEGIN:VEVENT
DTSTART;TZID=America/Halifax:20230429T100000
DTEND;TZID=America/Halifax:20230429T140000
DTSTAMP:20260424T085727
CREATED:20230403T144839Z
LAST-MODIFIED:20230403T144839Z
UID:5335-1682762400-1682776800@melwoodcommunity.org
SUMMARY:Steamfest Event
DESCRIPTION:To sign up for Training classes call 571-347-7858
URL:https://melwoodcommunity.org/calendar/steamfest-event/
END:VEVENT
BEGIN:VEVENT
DTSTART;TZID=America/Halifax:20230428T173000
DTEND;TZID=America/Halifax:20230428T203000
DTSTAMP:20260424T085727
CREATED:20230414T201148Z
LAST-MODIFIED:20230414T201148Z
UID:5444-1682703000-1682713800@melwoodcommunity.org
SUMMARY:Carpentry Skills Class
DESCRIPTION:To sign up for Training classes call 571-347-7858
URL:https://melwoodcommunity.org/calendar/carpentry-skills-class-2/
END:VEVENT
BEGIN:VEVENT
DTSTART;TZID=America/Halifax:20230428T153000
DTEND;TZID=America/Halifax:20230428T173000
DTSTAMP:20260424T085727
CREATED:20230407T002705Z
LAST-MODIFIED:20230407T002705Z
UID:5402-1682695800-1682703000@melwoodcommunity.org
SUMMARY:Welding for teens (high school only)
DESCRIPTION:
URL:https://melwoodcommunity.org/calendar/welding-for-teens-high-school-only-3/
END:VEVENT
BEGIN:VEVENT
DTSTART;TZID=America/Halifax:20230428T100000
DTEND;TZID=America/Halifax:20230428T120000
DTSTAMP:20260424T085727
CREATED:20230425T134827Z
LAST-MODIFIED:20230425T134827Z
UID:5577-1682676000-1682683200@melwoodcommunity.org
SUMMARY:Workforce Skills Entrepreneurship
DESCRIPTION:To sign up for Training classes call 571-347-7858
URL:https://melwoodcommunity.org/calendar/workforce-skills-entrepreneurship/
END:VEVENT
BEGIN:VEVENT
DTSTART;TZID=America/Halifax:20230427T153000
DTEND;TZID=America/Halifax:20230427T170000
DTSTAMP:20260424T085727
CREATED:20230407T002618Z
LAST-MODIFIED:20230407T002618Z
UID:5401-1682609400-1682614800@melwoodcommunity.org
SUMMARY:Cybersecurity (high school only)
DESCRIPTION:To sign up for Training classes call 571-347-7858
URL:https://melwoodcommunity.org/calendar/cybersecurity-high-school-only-3/
END:VEVENT
BEGIN:VEVENT
DTSTART;TZID=America/Halifax:20230426T173000
DTEND;TZID=America/Halifax:20230426T190000
DTSTAMP:20260424T085727
CREATED:20230425T132858Z
LAST-MODIFIED:20230425T132858Z
UID:5503-1682530200-1682535600@melwoodcommunity.org
SUMMARY:Intro to Welding
DESCRIPTION:To sign up for Training classes call 571-347-7858
URL:https://melwoodcommunity.org/calendar/intro-to-welding-26/
END:VEVENT
BEGIN:VEVENT
DTSTART;TZID=America/Halifax:20230426T173000
DTEND;TZID=America/Halifax:20230426T190000
DTSTAMP:20260424T085727
CREATED:20230407T002526Z
LAST-MODIFIED:20230407T002526Z
UID:5400-1682530200-1682535600@melwoodcommunity.org
SUMMARY:Computer Basics
DESCRIPTION:To sign up for Training classes call 571-347-7858
URL:https://melwoodcommunity.org/calendar/computer-basics-7/
END:VEVENT
BEGIN:VEVENT
DTSTART;TZID=America/Halifax:20230426T173000
DTEND;TZID=America/Halifax:20230426T183000
DTSTAMP:20260424T085727
CREATED:20230407T002428Z
LAST-MODIFIED:20230407T002428Z
UID:5399-1682530200-1682533800@melwoodcommunity.org
SUMMARY:Intro to Welding
DESCRIPTION:To sign up for Training classes call 571-347-7858
URL:https://melwoodcommunity.org/calendar/intro-to-welding-6/
END:VEVENT
BEGIN:VEVENT
DTSTART;TZID=America/Halifax:20230426T120000
DTEND;TZID=America/Halifax:20230426T140000
DTSTAMP:20260424T085727
CREATED:20230407T002304Z
LAST-MODIFIED:20230407T002304Z
UID:5398-1682510400-1682517600@melwoodcommunity.org
SUMMARY:Intro to Circuits
DESCRIPTION:To sign up for Training classes call 571-347-7858
URL:https://melwoodcommunity.org/calendar/intro-to-circuits-3/
END:VEVENT
BEGIN:VEVENT
DTSTART;TZID=America/Halifax:20230425T120000
DTEND;TZID=America/Halifax:20230425T130000
DTSTAMP:20260424T085727
CREATED:20230407T002142Z
LAST-MODIFIED:20230407T002142Z
UID:5396-1682424000-1682427600@melwoodcommunity.org
SUMMARY:Intro to Welding
DESCRIPTION:
URL:https://melwoodcommunity.org/calendar/intro-to-welding-5/
END:VEVENT
BEGIN:VEVENT
DTSTART;TZID=America/Halifax:20230425T083000
DTEND;TZID=America/Halifax:20230425T113000
DTSTAMP:20260424T085727
CREATED:20230414T201041Z
LAST-MODIFIED:20230414T201041Z
UID:5443-1682411400-1682422200@melwoodcommunity.org
SUMMARY:Carpentry Skills Class
DESCRIPTION:To sign up for Training classes call 571-347-7858
URL:https://melwoodcommunity.org/calendar/carpentry-skills-class/
END:VEVENT
BEGIN:VEVENT
DTSTART;TZID=America/Halifax:20230424T173000
DTEND;TZID=America/Halifax:20230424T190000
DTSTAMP:20260424T085727
CREATED:20230407T002102Z
LAST-MODIFIED:20230407T002102Z
UID:5394-1682357400-1682362800@melwoodcommunity.org
SUMMARY:Computer Basics
DESCRIPTION:To sign up for Training classes call 571-347-7858
URL:https://melwoodcommunity.org/calendar/computer-basics-6/
END:VEVENT
BEGIN:VEVENT
DTSTART;TZID=America/Halifax:20230424T120000
DTEND;TZID=America/Halifax:20230424T140000
DTSTAMP:20260424T085727
CREATED:20230418T135049Z
LAST-MODIFIED:20230418T135049Z
UID:5464-1682337600-1682344800@melwoodcommunity.org
SUMMARY:3D Printing
DESCRIPTION:To sign up for Training classes call 571-347-7858
URL:https://melwoodcommunity.org/calendar/3d-printing/
END:VEVENT
BEGIN:VEVENT
DTSTART;TZID=America/Halifax:20230424T100000
DTEND;TZID=America/Halifax:20230424T120000
DTSTAMP:20260424T085727
CREATED:20230403T143858Z
LAST-MODIFIED:20230403T143858Z
UID:5328-1682330400-1682337600@melwoodcommunity.org
SUMMARY:PDT Create a Personal Budget
DESCRIPTION:
URL:https://melwoodcommunity.org/calendar/pdt-create-a-personal-budget/
END:VEVENT
BEGIN:VEVENT
DTSTART;TZID=America/Halifax:20230421T153000
DTEND;TZID=America/Halifax:20230421T173000
DTSTAMP:20260424T085727
CREATED:20230407T000908Z
LAST-MODIFIED:20230407T000908Z
UID:5393-1682091000-1682098200@melwoodcommunity.org
SUMMARY:Welding for teens (high school only)
DESCRIPTION:To sign up for Training classes call 571-347-7858
URL:https://melwoodcommunity.org/calendar/welding-for-teens-high-school-only-2/
END:VEVENT
BEGIN:VEVENT
DTSTART;TZID=America/Halifax:20230421T100000
DTEND;TZID=America/Halifax:20230421T120000
DTSTAMP:20260424T085727
CREATED:20230418T134654Z
LAST-MODIFIED:20230418T134654Z
UID:5463-1682071200-1682078400@melwoodcommunity.org
SUMMARY:PDT – Self-Image
DESCRIPTION:To sign up for Training classes call 571-347-7858
URL:https://melwoodcommunity.org/calendar/pdt-self-image/
END:VEVENT
BEGIN:VEVENT
DTSTART;TZID=America/Halifax:20230420T153000
DTEND;TZID=America/Halifax:20230420T170000
DTSTAMP:20260424T085727
CREATED:20230407T000820Z
LAST-MODIFIED:20230407T000820Z
UID:5392-1682004600-1682010000@melwoodcommunity.org
SUMMARY:Cybersecurity (high school only)
DESCRIPTION:
URL:https://melwoodcommunity.org/calendar/cybersecurity-high-school-only-2/
END:VEVENT
BEGIN:VEVENT
DTSTART;TZID=America/Halifax:20230420T120000
DTEND;TZID=America/Halifax:20230420T140000
DTSTAMP:20260424T085727
CREATED:20230407T000623Z
LAST-MODIFIED:20230407T000623Z
UID:5389-1681992000-1681999200@melwoodcommunity.org
SUMMARY:Computer Basics
DESCRIPTION:To sign up for Training classes call 571-347-7858
URL:https://melwoodcommunity.org/calendar/computer-basics-4/
END:VEVENT
BEGIN:VEVENT
DTSTART;TZID=America/Halifax:20230419T180000
DTEND;TZID=America/Halifax:20230419T200000
DTSTAMP:20260424T085727
CREATED:20230403T143625Z
LAST-MODIFIED:20230403T143625Z
UID:5327-1681927200-1681934400@melwoodcommunity.org
SUMMARY:Financial Literacy Class
DESCRIPTION:(in Person at WISH)
URL:https://melwoodcommunity.org/calendar/financial-literacy-class/
END:VEVENT
BEGIN:VEVENT
DTSTART;TZID=America/Halifax:20230419T173000
DTEND;TZID=America/Halifax:20230419T183000
DTSTAMP:20260424T085727
CREATED:20230407T000525Z
LAST-MODIFIED:20230407T000525Z
UID:5388-1681925400-1681929000@melwoodcommunity.org
SUMMARY:Intro to Welding
DESCRIPTION:
URL:https://melwoodcommunity.org/calendar/intro-to-welding-4/
END:VEVENT
BEGIN:VEVENT
DTSTART;TZID=America/Halifax:20230419T120000
DTEND;TZID=America/Halifax:20230419T140000
DTSTAMP:20260424T085727
CREATED:20230418T133448Z
LAST-MODIFIED:20230418T133448Z
UID:5397-1681905600-1681912800@melwoodcommunity.org
SUMMARY:Intro to Circuits
DESCRIPTION:To sign up for Training classes call 571-347-7858
URL:https://melwoodcommunity.org/calendar/intro-to-circuits-4/
END:VEVENT
BEGIN:VEVENT
DTSTART;TZID=America/Halifax:20230419T100000
DTEND;TZID=America/Halifax:20230419T120000
DTSTAMP:20260424T085727
CREATED:20230420T135541Z
LAST-MODIFIED:20230420T135541Z
UID:5511-1681898400-1681905600@melwoodcommunity.org
SUMMARY:PDT – Resumes
DESCRIPTION:To sign up for Training classes call 571-347-7858
URL:https://melwoodcommunity.org/calendar/pdt-resumes/
END:VEVENT
BEGIN:VEVENT
DTSTART;TZID=America/Halifax:20230419T080000
DTEND;TZID=America/Halifax:20230419T170000
DTSTAMP:20260424T085727
CREATED:20230419T150055Z
LAST-MODIFIED:20230419T150055Z
UID:5502-1681891200-1681923600@melwoodcommunity.org
SUMMARY:Intro to Welding
DESCRIPTION:To sign up for Training classes call 571-347-7858
URL:https://melwoodcommunity.org/calendar/intro-to-welding-12/
END:VEVENT
BEGIN:VEVENT
DTSTART;TZID=America/Halifax:20230418T173000
DTEND;TZID=America/Halifax:20230418T183000
DTSTAMP:20260424T085727
CREATED:20230407T000155Z
LAST-MODIFIED:20230407T000155Z
UID:5385-1681839000-1681842600@melwoodcommunity.org
SUMMARY:Intro to Welding
DESCRIPTION:To sign up for Training classes call 571-347-7858
URL:https://melwoodcommunity.org/calendar/intro-to-welding-3/
END:VEVENT
BEGIN:VEVENT
DTSTART;TZID=America/Halifax:20230418T120000
DTEND;TZID=America/Halifax:20230418T140000
DTSTAMP:20260424T085727
CREATED:20230407T000249Z
LAST-MODIFIED:20230407T000249Z
UID:5386-1681819200-1681826400@melwoodcommunity.org
SUMMARY:Computer Basics
DESCRIPTION:
URL:https://melwoodcommunity.org/calendar/computer-basics-3/
END:VEVENT
BEGIN:VEVENT
DTSTART;TZID=America/Halifax:20230418T120000
DTEND;TZID=America/Halifax:20230418T140000
DTSTAMP:20260424T085727
CREATED:20230403T142833Z
LAST-MODIFIED:20230403T142833Z
UID:5323-1681819200-1681826400@melwoodcommunity.org
SUMMARY:Soldering & Electrical Circuits
DESCRIPTION:
URL:https://melwoodcommunity.org/calendar/soldering-electrical-circuits/
END:VEVENT
END:VCALENDAR