BEGIN:VCALENDAR
VERSION:2.0
PRODID:-//Melwood Community Services - ECPv6.15.20//NONSGML v1.0//EN
CALSCALE:GREGORIAN
METHOD:PUBLISH
X-WR-CALNAME:Melwood Community Services
X-ORIGINAL-URL:https://melwoodcommunity.org
X-WR-CALDESC:Events for Melwood Community Services
REFRESH-INTERVAL;VALUE=DURATION:PT1H
X-Robots-Tag:noindex
X-PUBLISHED-TTL:PT1H
BEGIN:VTIMEZONE
TZID:America/Halifax
BEGIN:DAYLIGHT
TZOFFSETFROM:-0400
TZOFFSETTO:-0300
TZNAME:ADT
DTSTART:20220313T060000
END:DAYLIGHT
BEGIN:STANDARD
TZOFFSETFROM:-0300
TZOFFSETTO:-0400
TZNAME:AST
DTSTART:20221106T050000
END:STANDARD
BEGIN:DAYLIGHT
TZOFFSETFROM:-0400
TZOFFSETTO:-0300
TZNAME:ADT
DTSTART:20230312T060000
END:DAYLIGHT
BEGIN:STANDARD
TZOFFSETFROM:-0300
TZOFFSETTO:-0400
TZNAME:AST
DTSTART:20231105T050000
END:STANDARD
BEGIN:DAYLIGHT
TZOFFSETFROM:-0400
TZOFFSETTO:-0300
TZNAME:ADT
DTSTART:20240310T060000
END:DAYLIGHT
BEGIN:STANDARD
TZOFFSETFROM:-0300
TZOFFSETTO:-0400
TZNAME:AST
DTSTART:20241103T050000
END:STANDARD
END:VTIMEZONE
BEGIN:VEVENT
DTSTART;TZID=America/Halifax:20230518T180000
DTEND;TZID=America/Halifax:20230518T210000
DTSTAMP:20260422T044214
CREATED:20230420T134326Z
LAST-MODIFIED:20230420T134326Z
UID:5506-1684432800-1684443600@melwoodcommunity.org
SUMMARY:Thoughtful Thursdays
DESCRIPTION:To sign up for Training classes call 571-347-7858
URL:https://melwoodcommunity.org/calendar/thoughtful-thursdays/
END:VEVENT
BEGIN:VEVENT
DTSTART;TZID=America/Halifax:20230517T120000
DTEND;TZID=America/Halifax:20230517T140000
DTSTAMP:20260422T044214
CREATED:20230419T145737Z
LAST-MODIFIED:20230419T145737Z
UID:5501-1684324800-1684332000@melwoodcommunity.org
SUMMARY:Intro to Circuits
DESCRIPTION:To sign up for Training classes call 571-347-7858
URL:https://melwoodcommunity.org/calendar/intro-to-circuits-6/
END:VEVENT
BEGIN:VEVENT
DTSTART;TZID=America/Halifax:20230516T083000
DTEND;TZID=America/Halifax:20230516T113000
DTSTAMP:20260422T044214
CREATED:20230414T201915Z
LAST-MODIFIED:20230414T201915Z
UID:5449-1684225800-1684236600@melwoodcommunity.org
SUMMARY:Carpentry Skills Class
DESCRIPTION:To sign up for Training classes call 571-347-7858
URL:https://melwoodcommunity.org/calendar/carpentry-skills-class-830a-1130a/
END:VEVENT
BEGIN:VEVENT
DTSTART;TZID=America/Halifax:20230515T120000
DTEND;TZID=America/Halifax:20230515T140000
DTSTAMP:20260422T044214
CREATED:20230419T143511Z
LAST-MODIFIED:20230419T143511Z
UID:5497-1684152000-1684159200@melwoodcommunity.org
SUMMARY:Intro to 3D Printing
DESCRIPTION:To sign up for Training classes call 571-347-7858
URL:https://melwoodcommunity.org/calendar/3d-printing-all-levels-5/
END:VEVENT
BEGIN:VEVENT
DTSTART;TZID=America/Halifax:20230515T100000
DTEND;TZID=America/Halifax:20230515T120000
DTSTAMP:20260422T044214
CREATED:20230403T150255Z
LAST-MODIFIED:20230403T150255Z
UID:5339-1684144800-1684152000@melwoodcommunity.org
SUMMARY:Workforce Skills -Setting Goals Effectively
DESCRIPTION:To sign up for Training classes call 571-347-7858
URL:https://melwoodcommunity.org/calendar/pdt-setting-goals-effectively/
END:VEVENT
BEGIN:VEVENT
DTSTART;TZID=America/Halifax:20230512T173000
DTEND;TZID=America/Halifax:20230512T203000
DTSTAMP:20260422T044214
CREATED:20230414T201816Z
LAST-MODIFIED:20230414T201816Z
UID:5448-1683912600-1683923400@melwoodcommunity.org
SUMMARY:Carpentry Skills Class
DESCRIPTION:To sign up for Training classes call 571-347-7858
URL:https://melwoodcommunity.org/calendar/carpentry-skills-class-5/
END:VEVENT
BEGIN:VEVENT
DTSTART;TZID=America/Halifax:20230512T100000
DTEND;TZID=America/Halifax:20230512T120000
DTSTAMP:20260422T044214
CREATED:20230419T143006Z
LAST-MODIFIED:20230419T143006Z
UID:5496-1683885600-1683892800@melwoodcommunity.org
SUMMARY:WORKFORCE SKILLS
DESCRIPTION:To sign up for Training classes call 571-347-7858
URL:https://melwoodcommunity.org/calendar/pdt-self-advocacy/
END:VEVENT
BEGIN:VEVENT
DTSTART;TZID=America/Halifax:20230511T180000
DTEND;TZID=America/Halifax:20230511T210000
DTSTAMP:20260422T044214
CREATED:20230419T142251Z
LAST-MODIFIED:20230419T142251Z
UID:5493-1683828000-1683838800@melwoodcommunity.org
SUMMARY:Thoughtful Thursdays
DESCRIPTION:To sign up for Training classes call 571-347-7858
URL:https://melwoodcommunity.org/calendar/thoughtful-thursdays-6pm-9pm/
END:VEVENT
BEGIN:VEVENT
DTSTART;TZID=America/Halifax:20230510T120000
DTEND;TZID=America/Halifax:20230510T140000
DTSTAMP:20260422T044214
CREATED:20230418T210622Z
LAST-MODIFIED:20230418T210622Z
UID:5488-1683720000-1683727200@melwoodcommunity.org
SUMMARY:Intro to Circuits
DESCRIPTION:To sign up for Training classes call 571-347-7858
URL:https://melwoodcommunity.org/calendar/intro-to-circuits-5/
END:VEVENT
BEGIN:VEVENT
DTSTART;TZID=America/Halifax:20230509T083000
DTEND;TZID=America/Halifax:20230509T113000
DTSTAMP:20260422T044214
CREATED:20230414T201702Z
LAST-MODIFIED:20230414T201702Z
UID:5447-1683621000-1683631800@melwoodcommunity.org
SUMMARY:Carpentry Skills Class
DESCRIPTION:To sign up for Training classes call 571-347-7858
URL:https://melwoodcommunity.org/calendar/carpentry-skills-class-4/
END:VEVENT
BEGIN:VEVENT
DTSTART;TZID=America/Halifax:20230508T120000
DTEND;TZID=America/Halifax:20230508T140000
DTSTAMP:20260422T044214
CREATED:20230418T151909Z
LAST-MODIFIED:20230418T151909Z
UID:5483-1683547200-1683554400@melwoodcommunity.org
SUMMARY:Intro to 3D Printing
DESCRIPTION:To sign up for Training classes call 571-347-7858
URL:https://melwoodcommunity.org/calendar/3d-printing-all-levels-4/
END:VEVENT
BEGIN:VEVENT
DTSTART;TZID=America/Halifax:20230508T100000
DTEND;TZID=America/Halifax:20230508T120000
DTSTAMP:20260422T044214
CREATED:20230403T145949Z
LAST-MODIFIED:20230403T145949Z
UID:5337-1683540000-1683547200@melwoodcommunity.org
SUMMARY:WORKFORCE SKILLS – Boundaries in the Workplace
DESCRIPTION:To sign up for Training classes call 571-347-7858
URL:https://melwoodcommunity.org/calendar/pdt-boundaries-in-the-workplace/
END:VEVENT
BEGIN:VEVENT
DTSTART;TZID=America/Halifax:20230505T173000
DTEND;TZID=America/Halifax:20230505T203000
DTSTAMP:20260422T044214
CREATED:20230414T201420Z
LAST-MODIFIED:20230414T201420Z
UID:5446-1683307800-1683318600@melwoodcommunity.org
SUMMARY:Carpentry Skills Class
DESCRIPTION:To sign up for Training classes call 571-347-7858
URL:https://melwoodcommunity.org/calendar/carpentry-skills-class-530p-830p/
END:VEVENT
BEGIN:VEVENT
DTSTART;TZID=America/Halifax:20230505T100000
DTEND;TZID=America/Halifax:20230505T120000
DTSTAMP:20260422T044214
CREATED:20230403T145526Z
LAST-MODIFIED:20230403T145526Z
UID:5336-1683280800-1683288000@melwoodcommunity.org
SUMMARY:WORKFORCE SKILLS – Networking
DESCRIPTION:To sign up for Training classes call 571-347-7858
URL:https://melwoodcommunity.org/calendar/pdt-networking/
END:VEVENT
BEGIN:VEVENT
DTSTART;TZID=America/Halifax:20230504T190000
DTEND;TZID=America/Halifax:20230504T210000
DTSTAMP:20260422T044214
CREATED:20230418T151308Z
LAST-MODIFIED:20230418T151308Z
UID:5481-1683226800-1683234000@melwoodcommunity.org
SUMMARY:Police Civilian Review Board meeting
DESCRIPTION:Classroom 2
URL:https://melwoodcommunity.org/calendar/police-civilian-review-board-meeting/
END:VEVENT
BEGIN:VEVENT
DTSTART;TZID=America/Halifax:20230504T153000
DTEND;TZID=America/Halifax:20230504T170000
DTSTAMP:20260422T044214
CREATED:20230418T151051Z
LAST-MODIFIED:20230418T151051Z
UID:5479-1683214200-1683219600@melwoodcommunity.org
SUMMARY:Cybersecurity (high school only)
DESCRIPTION:
URL:https://melwoodcommunity.org/calendar/cybersecurity-high-school-only-4/
END:VEVENT
BEGIN:VEVENT
DTSTART;TZID=America/Halifax:20230503T173000
DTEND;TZID=America/Halifax:20230503T193000
DTSTAMP:20260422T044214
CREATED:20230501T135215Z
LAST-MODIFIED:20230501T135215Z
UID:5640-1683135000-1683142200@melwoodcommunity.org
SUMMARY:Computer Basics
DESCRIPTION:To sign up for Training classes call 571-347-7858
URL:https://melwoodcommunity.org/calendar/computer-basics-23/
END:VEVENT
BEGIN:VEVENT
DTSTART;TZID=America/Halifax:20230503T173000
DTEND;TZID=America/Halifax:20230503T183000
DTSTAMP:20260422T044214
CREATED:20230418T150754Z
LAST-MODIFIED:20230418T150754Z
UID:5476-1683135000-1683138600@melwoodcommunity.org
SUMMARY:Intro to Welding
DESCRIPTION:To sign up for Training classes call 571-347-7858
URL:https://melwoodcommunity.org/calendar/intro-to-welding-8/
END:VEVENT
BEGIN:VEVENT
DTSTART;TZID=America/Halifax:20230503T153000
DTEND;TZID=America/Halifax:20230503T173000
DTSTAMP:20260422T044214
CREATED:20230501T135026Z
LAST-MODIFIED:20230501T135026Z
UID:5639-1683127800-1683135000@melwoodcommunity.org
SUMMARY:Augmented Reality (Teens only)
DESCRIPTION:To sign up for Training classes call 571-347-7858
URL:https://melwoodcommunity.org/calendar/augmented-reality-teens-only-330pm-530pm/
END:VEVENT
BEGIN:VEVENT
DTSTART;TZID=America/Halifax:20230503T120000
DTEND;TZID=America/Halifax:20230503T140000
DTSTAMP:20260422T044214
CREATED:20230418T150704Z
LAST-MODIFIED:20230418T150704Z
UID:5475-1683115200-1683122400@melwoodcommunity.org
SUMMARY:Intro to Circuits
DESCRIPTION:To sign up for Training classes call 571-347-7858
URL:https://melwoodcommunity.org/calendar/intro-to-circuits-2/
END:VEVENT
BEGIN:VEVENT
DTSTART;TZID=America/Halifax:20230502T120000
DTEND;TZID=America/Halifax:20230502T140000
DTSTAMP:20260422T044214
CREATED:20230418T150405Z
LAST-MODIFIED:20230418T150405Z
UID:5473-1683028800-1683036000@melwoodcommunity.org
SUMMARY:Computer Basics
DESCRIPTION:To sign up for Training classes call 571-347-7858
URL:https://melwoodcommunity.org/calendar/computer-basics-5/
END:VEVENT
BEGIN:VEVENT
DTSTART;TZID=America/Halifax:20230502T120000
DTEND;TZID=America/Halifax:20230502T130000
DTSTAMP:20260422T044214
CREATED:20230418T150308Z
LAST-MODIFIED:20230418T150308Z
UID:5472-1683028800-1683032400@melwoodcommunity.org
SUMMARY:Intro to Welding
DESCRIPTION:To sign up for Training classes call 571-347-7858
URL:https://melwoodcommunity.org/calendar/intro-to-welding-7/
END:VEVENT
BEGIN:VEVENT
DTSTART;TZID=America/Halifax:20230502T083000
DTEND;TZID=America/Halifax:20230502T113000
DTSTAMP:20260422T044214
CREATED:20230414T201252Z
LAST-MODIFIED:20230414T201252Z
UID:5445-1683016200-1683027000@melwoodcommunity.org
SUMMARY:Carpentry Explored
DESCRIPTION:To sign up for Training classes call 571-347-7858
URL:https://melwoodcommunity.org/calendar/carpentry-skills-class-3/
END:VEVENT
BEGIN:VEVENT
DTSTART;TZID=America/Halifax:20230501T120000
DTEND;TZID=America/Halifax:20230501T140000
DTSTAMP:20260422T044214
CREATED:20230418T145945Z
LAST-MODIFIED:20230418T145945Z
UID:5470-1682942400-1682949600@melwoodcommunity.org
SUMMARY:3D Printing (all levels)
DESCRIPTION:To sign up for Training classes call 571-347-7858
URL:https://melwoodcommunity.org/calendar/3d-printing-all-levels-3/
END:VEVENT
BEGIN:VEVENT
DTSTART;TZID=America/Halifax:20230429T100000
DTEND;TZID=America/Halifax:20230429T140000
DTSTAMP:20260422T044214
CREATED:20230403T144839Z
LAST-MODIFIED:20230403T144839Z
UID:5335-1682762400-1682776800@melwoodcommunity.org
SUMMARY:Steamfest Event
DESCRIPTION:To sign up for Training classes call 571-347-7858
URL:https://melwoodcommunity.org/calendar/steamfest-event/
END:VEVENT
BEGIN:VEVENT
DTSTART;TZID=America/Halifax:20230428T173000
DTEND;TZID=America/Halifax:20230428T203000
DTSTAMP:20260422T044214
CREATED:20230414T201148Z
LAST-MODIFIED:20230414T201148Z
UID:5444-1682703000-1682713800@melwoodcommunity.org
SUMMARY:Carpentry Skills Class
DESCRIPTION:To sign up for Training classes call 571-347-7858
URL:https://melwoodcommunity.org/calendar/carpentry-skills-class-2/
END:VEVENT
BEGIN:VEVENT
DTSTART;TZID=America/Halifax:20230428T153000
DTEND;TZID=America/Halifax:20230428T173000
DTSTAMP:20260422T044214
CREATED:20230407T002705Z
LAST-MODIFIED:20230407T002705Z
UID:5402-1682695800-1682703000@melwoodcommunity.org
SUMMARY:Welding for teens (high school only)
DESCRIPTION:
URL:https://melwoodcommunity.org/calendar/welding-for-teens-high-school-only-3/
END:VEVENT
BEGIN:VEVENT
DTSTART;TZID=America/Halifax:20230428T100000
DTEND;TZID=America/Halifax:20230428T120000
DTSTAMP:20260422T044214
CREATED:20230425T134827Z
LAST-MODIFIED:20230425T134827Z
UID:5577-1682676000-1682683200@melwoodcommunity.org
SUMMARY:Workforce Skills Entrepreneurship
DESCRIPTION:To sign up for Training classes call 571-347-7858
URL:https://melwoodcommunity.org/calendar/workforce-skills-entrepreneurship/
END:VEVENT
BEGIN:VEVENT
DTSTART;TZID=America/Halifax:20230427T153000
DTEND;TZID=America/Halifax:20230427T170000
DTSTAMP:20260422T044214
CREATED:20230407T002618Z
LAST-MODIFIED:20230407T002618Z
UID:5401-1682609400-1682614800@melwoodcommunity.org
SUMMARY:Cybersecurity (high school only)
DESCRIPTION:To sign up for Training classes call 571-347-7858
URL:https://melwoodcommunity.org/calendar/cybersecurity-high-school-only-3/
END:VEVENT
BEGIN:VEVENT
DTSTART;TZID=America/Halifax:20230426T173000
DTEND;TZID=America/Halifax:20230426T190000
DTSTAMP:20260422T044214
CREATED:20230425T132858Z
LAST-MODIFIED:20230425T132858Z
UID:5503-1682530200-1682535600@melwoodcommunity.org
SUMMARY:Intro to Welding
DESCRIPTION:To sign up for Training classes call 571-347-7858
URL:https://melwoodcommunity.org/calendar/intro-to-welding-26/
END:VEVENT
END:VCALENDAR