BEGIN:VCALENDAR
VERSION:2.0
PRODID:-//Melwood Community Services - ECPv6.15.20//NONSGML v1.0//EN
CALSCALE:GREGORIAN
METHOD:PUBLISH
X-WR-CALNAME:Melwood Community Services
X-ORIGINAL-URL:https://melwoodcommunity.org
X-WR-CALDESC:Events for Melwood Community Services
REFRESH-INTERVAL;VALUE=DURATION:PT1H
X-Robots-Tag:noindex
X-PUBLISHED-TTL:PT1H
BEGIN:VTIMEZONE
TZID:America/Halifax
BEGIN:DAYLIGHT
TZOFFSETFROM:-0400
TZOFFSETTO:-0300
TZNAME:ADT
DTSTART:20230312T060000
END:DAYLIGHT
BEGIN:STANDARD
TZOFFSETFROM:-0300
TZOFFSETTO:-0400
TZNAME:AST
DTSTART:20231105T050000
END:STANDARD
BEGIN:DAYLIGHT
TZOFFSETFROM:-0400
TZOFFSETTO:-0300
TZNAME:ADT
DTSTART:20240310T060000
END:DAYLIGHT
BEGIN:STANDARD
TZOFFSETFROM:-0300
TZOFFSETTO:-0400
TZNAME:AST
DTSTART:20241103T050000
END:STANDARD
BEGIN:DAYLIGHT
TZOFFSETFROM:-0400
TZOFFSETTO:-0300
TZNAME:ADT
DTSTART:20250309T060000
END:DAYLIGHT
BEGIN:STANDARD
TZOFFSETFROM:-0300
TZOFFSETTO:-0400
TZNAME:AST
DTSTART:20251102T050000
END:STANDARD
END:VTIMEZONE
BEGIN:VEVENT
DTSTART;TZID=America/Halifax:20241106T173000
DTEND;TZID=America/Halifax:20241106T193000
DTSTAMP:20260420T105946
CREATED:20241022T133150Z
LAST-MODIFIED:20241022T133150Z
UID:7238-1730914200-1730921400@melwoodcommunity.org
SUMMARY:Adult Welding (Soldadura Para Adultis)
DESCRIPTION:Ven a celebrar las festividades con nosotros en el Centro WISH \nEsta es una clase de 2 horas\, instruida por nuestros experimentados instructores. Seras introducido a los principios de soldadura y al final de la clase habras creado una 1naceta para ti o para dar co1no un regalo en estas festividades. Registrarte solo/a o con amigos. Ven a aprender y celbrar! \nHybla Valley Community Center\n7950 Audubon Ave.\nAlexandria\, VA \nTel: (571) 347-7858
URL:https://melwoodcommunity.org/calendar/adult-welding-soldadura-para-adultis-3/
LOCATION:VA
END:VEVENT
END:VCALENDAR