BEGIN:VCALENDAR
VERSION:2.0
PRODID:-//Melwood Community Services - ECPv6.15.20//NONSGML v1.0//EN
CALSCALE:GREGORIAN
METHOD:PUBLISH
X-WR-CALNAME:Melwood Community Services
X-ORIGINAL-URL:https://melwoodcommunity.org
X-WR-CALDESC:Events for Melwood Community Services
REFRESH-INTERVAL;VALUE=DURATION:PT1H
X-Robots-Tag:noindex
X-PUBLISHED-TTL:PT1H
BEGIN:VTIMEZONE
TZID:America/Halifax
BEGIN:DAYLIGHT
TZOFFSETFROM:-0400
TZOFFSETTO:-0300
TZNAME:ADT
DTSTART:20230312T060000
END:DAYLIGHT
BEGIN:STANDARD
TZOFFSETFROM:-0300
TZOFFSETTO:-0400
TZNAME:AST
DTSTART:20231105T050000
END:STANDARD
BEGIN:DAYLIGHT
TZOFFSETFROM:-0400
TZOFFSETTO:-0300
TZNAME:ADT
DTSTART:20240310T060000
END:DAYLIGHT
BEGIN:STANDARD
TZOFFSETFROM:-0300
TZOFFSETTO:-0400
TZNAME:AST
DTSTART:20241103T050000
END:STANDARD
BEGIN:DAYLIGHT
TZOFFSETFROM:-0400
TZOFFSETTO:-0300
TZNAME:ADT
DTSTART:20250309T060000
END:DAYLIGHT
BEGIN:STANDARD
TZOFFSETFROM:-0300
TZOFFSETTO:-0400
TZNAME:AST
DTSTART:20251102T050000
END:STANDARD
END:VTIMEZONE
BEGIN:VEVENT
DTSTART;TZID=America/Halifax:20240913T100000
DTEND;TZID=America/Halifax:20240913T120000
DTSTAMP:20260424T101326
CREATED:20240911T151326Z
LAST-MODIFIED:20240911T151326Z
UID:7187-1726221600-1726228800@melwoodcommunity.org
SUMMARY:WORKFORCE SKILLS – Resume Development (Habilidades de la Fuerza Laboral)
DESCRIPTION:Location: Classroom 1 \nHabilidades de la Fuerza\nLaboral –\nDesarrollo de Currículum\nAula 1\n10:00 am -12pm
URL:https://melwoodcommunity.org/calendar/workforce-skills-resume-development-habilidades-de-la-fuerza-laboral/
LOCATION:VA
END:VEVENT
END:VCALENDAR