BEGIN:VCALENDAR
VERSION:2.0
PRODID:-//Melwood Community Services - ECPv6.15.20//NONSGML v1.0//EN
CALSCALE:GREGORIAN
METHOD:PUBLISH
X-WR-CALNAME:Melwood Community Services
X-ORIGINAL-URL:https://melwoodcommunity.org
X-WR-CALDESC:Events for Melwood Community Services
REFRESH-INTERVAL;VALUE=DURATION:PT1H
X-Robots-Tag:noindex
X-PUBLISHED-TTL:PT1H
BEGIN:VTIMEZONE
TZID:America/Halifax
BEGIN:DAYLIGHT
TZOFFSETFROM:-0400
TZOFFSETTO:-0300
TZNAME:ADT
DTSTART:20230312T060000
END:DAYLIGHT
BEGIN:STANDARD
TZOFFSETFROM:-0300
TZOFFSETTO:-0400
TZNAME:AST
DTSTART:20231105T050000
END:STANDARD
BEGIN:DAYLIGHT
TZOFFSETFROM:-0400
TZOFFSETTO:-0300
TZNAME:ADT
DTSTART:20240310T060000
END:DAYLIGHT
BEGIN:STANDARD
TZOFFSETFROM:-0300
TZOFFSETTO:-0400
TZNAME:AST
DTSTART:20241103T050000
END:STANDARD
BEGIN:DAYLIGHT
TZOFFSETFROM:-0400
TZOFFSETTO:-0300
TZNAME:ADT
DTSTART:20250309T060000
END:DAYLIGHT
BEGIN:STANDARD
TZOFFSETFROM:-0300
TZOFFSETTO:-0400
TZNAME:AST
DTSTART:20251102T050000
END:STANDARD
END:VTIMEZONE
BEGIN:VEVENT
DTSTART;TZID=America/Halifax:20240803T093000
DTEND;TZID=America/Halifax:20240803T150000
DTSTAMP:20260424T114935
CREATED:20240702T165124Z
LAST-MODIFIED:20240702T165124Z
UID:7089-1722677400-1722697200@melwoodcommunity.org
SUMMARY:NOVA Connect Program
DESCRIPTION:Get New Skills. Get a Job. Get Ahead. \nInterested in learning new skills and advancing your career? \nSaturday Sessions • 9:30 a.m. – 3 p.m. \nAugust 3: CONNECT Adults: Shifting Your Dream\nAugust 10: Workshop facilitator 1:1 appointments (virtual) \nAugust 17: CONNECT Military Affiliates and “Returning Citizens” Reclaiming Your Dream\nAugust 24: Workshop facilitator 1:1 appointments (virtual) \nOn-Site during Training Sessions:\nFree Child Care (ages 3-12 & toilet-trained)\nFree Continental Breakfast and Lunch\nFree NOVA Giveaways \n  \nFree Transportation to and from: \n\nSpringfield Family Resource Center\nHuntington Community Center\nGum Springs Community Center\nGerry Hyland Building\nLorton Community Center\nMurraygate Boys and Girls Club\n\nClick here to download program flyer.
URL:https://melwoodcommunity.org/calendar/nova-connect-program/
LOCATION:VA
END:VEVENT
END:VCALENDAR